BEGIN:VCALENDAR
VERSION:2.0
PRODID:-//412th Force Support Squadron - ECPv6.15.20//NONSGML v1.0//EN
CALSCALE:GREGORIAN
METHOD:PUBLISH
X-ORIGINAL-URL:https://edwardsfss.com
X-WR-CALDESC:Events for 412th Force Support Squadron
REFRESH-INTERVAL;VALUE=DURATION:PT1H
X-Robots-Tag:noindex
X-PUBLISHED-TTL:PT1H
BEGIN:VTIMEZONE
TZID:America/Los_Angeles
BEGIN:DAYLIGHT
TZOFFSETFROM:-0800
TZOFFSETTO:-0700
TZNAME:PDT
DTSTART:20240310T100000
END:DAYLIGHT
BEGIN:STANDARD
TZOFFSETFROM:-0700
TZOFFSETTO:-0800
TZNAME:PST
DTSTART:20241103T090000
END:STANDARD
BEGIN:DAYLIGHT
TZOFFSETFROM:-0800
TZOFFSETTO:-0700
TZNAME:PDT
DTSTART:20250309T100000
END:DAYLIGHT
BEGIN:STANDARD
TZOFFSETFROM:-0700
TZOFFSETTO:-0800
TZNAME:PST
DTSTART:20251102T090000
END:STANDARD
BEGIN:DAYLIGHT
TZOFFSETFROM:-0800
TZOFFSETTO:-0700
TZNAME:PDT
DTSTART:20260308T100000
END:DAYLIGHT
BEGIN:STANDARD
TZOFFSETFROM:-0700
TZOFFSETTO:-0800
TZNAME:PST
DTSTART:20261101T090000
END:STANDARD
END:VTIMEZONE
BEGIN:VEVENT
DTSTART;TZID=America/Los_Angeles:20250927T100000
DTEND;TZID=America/Los_Angeles:20250927T130000
DTSTAMP:20260420T142234
CREATED:20250909T194420Z
LAST-MODIFIED:20250909T194420Z
UID:10002948-1758967200-1758978000@edwardsfss.com
SUMMARY:Renaissance Faire
DESCRIPTION:Calling all lords and ladies! The Edwards Library is transforming into a magical kingdom for our Renaissance Faire on Saturday\, September 27th! Don your finest attire and prepare for a day of adventure\, from daring scavenger hunts to a majestic costume contest. Join the revelry from 10 AM – 1 PM! Saturday\, September 27 | 10 – 1 pmCall 275-BOOK for more information.
URL:https://edwardsfss.com/event/renaissance-faire/
CATEGORIES:Library
ATTACH;FMTTYPE=image/jpeg:https://edwardsfss.com/wp-content/uploads/2025/09/Renaissance-Faire.jpg
END:VEVENT
END:VCALENDAR