BEGIN:VCALENDAR
VERSION:2.0
PRODID:-//412th Force Support Squadron - ECPv6.15.20//NONSGML v1.0//EN
CALSCALE:GREGORIAN
METHOD:PUBLISH
X-ORIGINAL-URL:https://edwardsfss.com
X-WR-CALDESC:Events for 412th Force Support Squadron
REFRESH-INTERVAL;VALUE=DURATION:PT1H
X-Robots-Tag:noindex
X-PUBLISHED-TTL:PT1H
BEGIN:VTIMEZONE
TZID:America/Los_Angeles
BEGIN:DAYLIGHT
TZOFFSETFROM:-0800
TZOFFSETTO:-0700
TZNAME:PDT
DTSTART:20240310T100000
END:DAYLIGHT
BEGIN:STANDARD
TZOFFSETFROM:-0700
TZOFFSETTO:-0800
TZNAME:PST
DTSTART:20241103T090000
END:STANDARD
BEGIN:DAYLIGHT
TZOFFSETFROM:-0800
TZOFFSETTO:-0700
TZNAME:PDT
DTSTART:20250309T100000
END:DAYLIGHT
BEGIN:STANDARD
TZOFFSETFROM:-0700
TZOFFSETTO:-0800
TZNAME:PST
DTSTART:20251102T090000
END:STANDARD
BEGIN:DAYLIGHT
TZOFFSETFROM:-0800
TZOFFSETTO:-0700
TZNAME:PDT
DTSTART:20260308T100000
END:DAYLIGHT
BEGIN:STANDARD
TZOFFSETFROM:-0700
TZOFFSETTO:-0800
TZNAME:PST
DTSTART:20261101T090000
END:STANDARD
END:VTIMEZONE
BEGIN:VEVENT
DTSTART;TZID=America/Los_Angeles:20251205T160000
DTEND;TZID=America/Los_Angeles:20251205T200000
DTSTAMP:20260420T010957
CREATED:20251114T162533Z
LAST-MODIFIED:20251114T162533Z
UID:10003056-1764950400-1764964800@edwardsfss.com
SUMMARY:Winterfest
DESCRIPTION:Celebrate the beginning of the holiday season with us at Winterfest for some festive fun! Get your camera ready for photos with Santa\, compete in a homemade sweater contest\, and enjoy hot cocoa\, cookies\, snow\, and more! \nFriday\, December 5 | 4 – 8 pm | BX Parking Lot \nWant to help bring the holiday fun to life? Sign up to volunteer here: https://www.signupgenius.com/go/10C084AADA828A0F4C16-60321310-winterfest?useFullSite=true#/ \nCall 275-CNTR for more information.
URL:https://edwardsfss.com/event/winterfest/
LOCATION:CA
CATEGORIES:Basewide Events,Edwards AFB
ATTACH;FMTTYPE=image/png:https://edwardsfss.com/wp-content/uploads/2025/11/Winterfest-SOCIAL2-01.png
END:VEVENT
END:VCALENDAR