BEGIN:VCALENDAR
VERSION:2.0
PRODID:-//412th Force Support Squadron - ECPv6.15.20//NONSGML v1.0//EN
CALSCALE:GREGORIAN
METHOD:PUBLISH
X-ORIGINAL-URL:https://edwardsfss.com
X-WR-CALDESC:Events for 412th Force Support Squadron
REFRESH-INTERVAL;VALUE=DURATION:PT1H
X-Robots-Tag:noindex
X-PUBLISHED-TTL:PT1H
BEGIN:VTIMEZONE
TZID:America/Los_Angeles
BEGIN:DAYLIGHT
TZOFFSETFROM:-0800
TZOFFSETTO:-0700
TZNAME:PDT
DTSTART:20240310T100000
END:DAYLIGHT
BEGIN:STANDARD
TZOFFSETFROM:-0700
TZOFFSETTO:-0800
TZNAME:PST
DTSTART:20241103T090000
END:STANDARD
BEGIN:DAYLIGHT
TZOFFSETFROM:-0800
TZOFFSETTO:-0700
TZNAME:PDT
DTSTART:20250309T100000
END:DAYLIGHT
BEGIN:STANDARD
TZOFFSETFROM:-0700
TZOFFSETTO:-0800
TZNAME:PST
DTSTART:20251102T090000
END:STANDARD
BEGIN:DAYLIGHT
TZOFFSETFROM:-0800
TZOFFSETTO:-0700
TZNAME:PDT
DTSTART:20260308T100000
END:DAYLIGHT
BEGIN:STANDARD
TZOFFSETFROM:-0700
TZOFFSETTO:-0800
TZNAME:PST
DTSTART:20261101T090000
END:STANDARD
END:VTIMEZONE
BEGIN:VEVENT
DTSTART;TZID=America/Los_Angeles:20251204T070000
DTEND;TZID=America/Los_Angeles:20251204T090000
DTSTAMP:20260420T045306
CREATED:20251126T180059Z
LAST-MODIFIED:20251126T180059Z
UID:10003079-1764831600-1764838800@edwardsfss.com
SUMMARY:Festive 5K
DESCRIPTION:Ready to run (or walk!) into the holidays? Join us for a Festive 5K fun run filled with holiday cheer\, music and a course designed for all ages and fitness levels. Whether you sprint\, jog or stroll\, this celebration of community and movement is the perfect way to kick off the season! \nThursday\, December 4 | 7 – 9 am \nCall 275-GYM1 for more information.
URL:https://edwardsfss.com/event/festive-5k/
LOCATION:Rosburg Fitness Center\, 210 W Popson Ave. Bldg. 2200\, Edwards\, California\, 93524\, United States
CATEGORIES:Fitness Center
ATTACH;FMTTYPE=image/jpeg:https://edwardsfss.com/wp-content/uploads/2025/11/Festive-5K-SOCIAL.jpg
END:VEVENT
END:VCALENDAR