BEGIN:VCALENDAR
VERSION:2.0
PRODID:-//412th Force Support Squadron - ECPv6.15.20//NONSGML v1.0//EN
CALSCALE:GREGORIAN
METHOD:PUBLISH
X-ORIGINAL-URL:https://edwardsfss.com
X-WR-CALDESC:Events for 412th Force Support Squadron
REFRESH-INTERVAL;VALUE=DURATION:PT1H
X-Robots-Tag:noindex
X-PUBLISHED-TTL:PT1H
BEGIN:VTIMEZONE
TZID:America/Los_Angeles
BEGIN:DAYLIGHT
TZOFFSETFROM:-0800
TZOFFSETTO:-0700
TZNAME:PDT
DTSTART:20240310T100000
END:DAYLIGHT
BEGIN:STANDARD
TZOFFSETFROM:-0700
TZOFFSETTO:-0800
TZNAME:PST
DTSTART:20241103T090000
END:STANDARD
BEGIN:DAYLIGHT
TZOFFSETFROM:-0800
TZOFFSETTO:-0700
TZNAME:PDT
DTSTART:20250309T100000
END:DAYLIGHT
BEGIN:STANDARD
TZOFFSETFROM:-0700
TZOFFSETTO:-0800
TZNAME:PST
DTSTART:20251102T090000
END:STANDARD
BEGIN:DAYLIGHT
TZOFFSETFROM:-0800
TZOFFSETTO:-0700
TZNAME:PDT
DTSTART:20260308T100000
END:DAYLIGHT
BEGIN:STANDARD
TZOFFSETFROM:-0700
TZOFFSETTO:-0800
TZNAME:PST
DTSTART:20261101T090000
END:STANDARD
END:VTIMEZONE
BEGIN:VEVENT
DTSTART;TZID=America/Los_Angeles:20250920T120000
DTEND;TZID=America/Los_Angeles:20250920T140000
DTSTAMP:20260419T235203
CREATED:20250909T193928Z
LAST-MODIFIED:20250909T193928Z
UID:10002947-1758369600-1758376800@edwardsfss.com
SUMMARY:Cozy Club
DESCRIPTION:Get cozy and join us for scrapbooking\, crocheting\, and coloring. Come relax\, watch a movie\, or just hang out. Don’t forget to wear your PJs!Saturday\, September 20 | 12 – 2 pmCall 275-BOOK for more information
URL:https://edwardsfss.com/event/cozy-club/
CATEGORIES:Library
ATTACH;FMTTYPE=image/jpeg:https://edwardsfss.com/wp-content/uploads/2025/09/Cozy-Club.jpg
END:VEVENT
BEGIN:VEVENT
DTSTART;TZID=America/Los_Angeles:20250922T140000
DTEND;TZID=America/Los_Angeles:20250922T160000
DTSTAMP:20260419T235203
CREATED:20250909T182852Z
LAST-MODIFIED:20250909T182852Z
UID:10002938-1758549600-1758556800@edwardsfss.com
SUMMARY:Homeschool Hangout
DESCRIPTION:Looking for educational fun and community? Swing by our Homeschool Hangout! We’re providing engaging activities\, creative projects\, and games.\n\n\nMonday\, September 22 | 2 – 4 pm\nAll ages are welcome\n\n\nCall 275-BOOK for more information.
URL:https://edwardsfss.com/event/homeschool-hangout/
CATEGORIES:Library
END:VEVENT
BEGIN:VEVENT
DTSTART;TZID=America/Los_Angeles:20250927T100000
DTEND;TZID=America/Los_Angeles:20250927T130000
DTSTAMP:20260419T235203
CREATED:20250909T194420Z
LAST-MODIFIED:20250909T194420Z
UID:10002948-1758967200-1758978000@edwardsfss.com
SUMMARY:Renaissance Faire
DESCRIPTION:Calling all lords and ladies! The Edwards Library is transforming into a magical kingdom for our Renaissance Faire on Saturday\, September 27th! Don your finest attire and prepare for a day of adventure\, from daring scavenger hunts to a majestic costume contest. Join the revelry from 10 AM – 1 PM! Saturday\, September 27 | 10 – 1 pmCall 275-BOOK for more information.
URL:https://edwardsfss.com/event/renaissance-faire/
CATEGORIES:Library
ATTACH;FMTTYPE=image/jpeg:https://edwardsfss.com/wp-content/uploads/2025/09/Renaissance-Faire.jpg
END:VEVENT
END:VCALENDAR