BEGIN:VCALENDAR
VERSION:2.0
PRODID:-//412th Force Support Squadron - ECPv6.15.20//NONSGML v1.0//EN
CALSCALE:GREGORIAN
METHOD:PUBLISH
X-ORIGINAL-URL:https://edwardsfss.com
X-WR-CALDESC:Events for 412th Force Support Squadron
REFRESH-INTERVAL;VALUE=DURATION:PT1H
X-Robots-Tag:noindex
X-PUBLISHED-TTL:PT1H
BEGIN:VTIMEZONE
TZID:America/Los_Angeles
BEGIN:DAYLIGHT
TZOFFSETFROM:-0800
TZOFFSETTO:-0700
TZNAME:PDT
DTSTART:20240310T100000
END:DAYLIGHT
BEGIN:STANDARD
TZOFFSETFROM:-0700
TZOFFSETTO:-0800
TZNAME:PST
DTSTART:20241103T090000
END:STANDARD
BEGIN:DAYLIGHT
TZOFFSETFROM:-0800
TZOFFSETTO:-0700
TZNAME:PDT
DTSTART:20250309T100000
END:DAYLIGHT
BEGIN:STANDARD
TZOFFSETFROM:-0700
TZOFFSETTO:-0800
TZNAME:PST
DTSTART:20251102T090000
END:STANDARD
BEGIN:DAYLIGHT
TZOFFSETFROM:-0800
TZOFFSETTO:-0700
TZNAME:PDT
DTSTART:20260308T100000
END:DAYLIGHT
BEGIN:STANDARD
TZOFFSETFROM:-0700
TZOFFSETTO:-0800
TZNAME:PST
DTSTART:20261101T090000
END:STANDARD
END:VTIMEZONE
BEGIN:VEVENT
DTSTART;TZID=America/Los_Angeles:20250912T170000
DTEND;TZID=America/Los_Angeles:20250912T190000
DTSTAMP:20260421T190736
CREATED:20250909T180242Z
LAST-MODIFIED:20250909T180242Z
UID:10002934-1757696400-1757703600@edwardsfss.com
SUMMARY:Mixology
DESCRIPTION:Join us at Club Muroc for Mixology! Craft classic and creative cocktails with our expert bartender and enjoy paired hors d’oeuvres along the way!\n\n\nFriday\, September 12 | 5 – 7 pm\n$55 | $50 for FSS Insiders\n\n\nCall 277-2830 to sign up!
URL:https://edwardsfss.com/event/mixology/
CATEGORIES:Club Muroc
ATTACH;FMTTYPE=image/jpeg:https://edwardsfss.com/wp-content/uploads/2025/09/Mixology.jpg
END:VEVENT
BEGIN:VEVENT
DTSTART;TZID=America/Los_Angeles:20250912T180000
DTEND;TZID=America/Los_Angeles:20250912T200000
DTSTAMP:20260421T190736
CREATED:20250909T164054Z
LAST-MODIFIED:20250909T164054Z
UID:10002926-1757700000-1757707200@edwardsfss.com
SUMMARY:Circus Bingo
DESCRIPTION:Join us for Circus Bingo at Club Muroc at 6:00 p.m. on September 12th. Step right up for 5 thrilling bingo games with great prizes! Grand prize is 2 tickets to the LA Zoo for a wild day out!
URL:https://edwardsfss.com/event/circus-bingo/
CATEGORIES:Club Muroc
ATTACH;FMTTYPE=image/jpeg:https://edwardsfss.com/wp-content/uploads/2025/09/Circus-Bingo.jpg
END:VEVENT
END:VCALENDAR