BEGIN:VCALENDAR
VERSION:2.0
PRODID:-//412th Force Support Squadron - ECPv6.15.20//NONSGML v1.0//EN
CALSCALE:GREGORIAN
METHOD:PUBLISH
X-WR-CALNAME:412th Force Support Squadron
X-ORIGINAL-URL:https://edwardsfss.com
X-WR-CALDESC:Events for 412th Force Support Squadron
REFRESH-INTERVAL;VALUE=DURATION:PT1H
X-Robots-Tag:noindex
X-PUBLISHED-TTL:PT1H
BEGIN:VTIMEZONE
TZID:America/Los_Angeles
BEGIN:DAYLIGHT
TZOFFSETFROM:-0800
TZOFFSETTO:-0700
TZNAME:PDT
DTSTART:20240310T100000
END:DAYLIGHT
BEGIN:STANDARD
TZOFFSETFROM:-0700
TZOFFSETTO:-0800
TZNAME:PST
DTSTART:20241103T090000
END:STANDARD
BEGIN:DAYLIGHT
TZOFFSETFROM:-0800
TZOFFSETTO:-0700
TZNAME:PDT
DTSTART:20250309T100000
END:DAYLIGHT
BEGIN:STANDARD
TZOFFSETFROM:-0700
TZOFFSETTO:-0800
TZNAME:PST
DTSTART:20251102T090000
END:STANDARD
BEGIN:DAYLIGHT
TZOFFSETFROM:-0800
TZOFFSETTO:-0700
TZNAME:PDT
DTSTART:20260308T100000
END:DAYLIGHT
BEGIN:STANDARD
TZOFFSETFROM:-0700
TZOFFSETTO:-0800
TZNAME:PST
DTSTART:20261101T090000
END:STANDARD
END:VTIMEZONE
BEGIN:VEVENT
DTSTART;TZID=America/Los_Angeles:20251003T160000
DTEND;TZID=America/Los_Angeles:20251003T180000
DTSTAMP:20260421T075310
CREATED:20250922T200639Z
LAST-MODIFIED:20250922T200639Z
UID:10002955-1759507200-1759514400@edwardsfss.com
SUMMARY:First Friday
DESCRIPTION:First Friday at Club Muroc is happening! You won’t want to miss it. Sign up to be an FSS Insider and help yourself to FREE appetizers at every First Friday event.\nOctober 3 | Pumpkin Palooza | 4:00 p.m. – 6:00 p.m.\nNovember 7 | Ladle & Loaf | 4:00 p.m. – 6:00 p.m.\nCall 275-CLUB for more information.
URL:https://edwardsfss.com/event/first-friday/2025-10-03/
CATEGORIES:Club Muroc
ATTACH;FMTTYPE=image/png:https://edwardsfss.com/wp-content/uploads/2025/09/First-Friday-Q4-SOCIAL-01.png
END:VEVENT
BEGIN:VEVENT
DTSTART;TZID=America/Los_Angeles:20251003T180000
DTEND;TZID=America/Los_Angeles:20251003T210000
DTSTAMP:20260421T075310
CREATED:20251002T151025Z
LAST-MODIFIED:20251002T151025Z
UID:10002957-1759514400-1759525200@edwardsfss.com
SUMMARY:Karaoke
DESCRIPTION:The stage is yours at Karaoke Nights at Club Muroc! Belt out your favorites\, cheer on your friends and make it a night of music & memories! \nFridays | 6 – 9 pm\nOctober 3 & 17\nNovember 7 & 21\nDecember 5 & 19 \nCall 275-CLUB for more information.
URL:https://edwardsfss.com/event/karaoke-2/
LOCATION:Club Muroc\, Bldg. 5600\, 275 Doolittle Parkway\, Edwards AFB\, CA\, 93524\, United States
CATEGORIES:Club Muroc
ATTACH;FMTTYPE=image/png:https://edwardsfss.com/wp-content/uploads/2025/09/Karaoke-Q4-SOCIAL-01.png
END:VEVENT
BEGIN:VEVENT
DTSTART;TZID=America/Los_Angeles:20251003T190000
DTEND;TZID=America/Los_Angeles:20251003T210000
DTSTAMP:20260421T075310
CREATED:20250922T195054Z
LAST-MODIFIED:20250922T195054Z
UID:10002950-1759518000-1759525200@edwardsfss.com
SUMMARY:Paint & Wine
DESCRIPTION:Join us at Club Muroc for Paint & Wine from 7:00 p.m. to 9:00 p.m. Reserve your seat early as space is limited. Paintings will be announced on the Arts & Crafts Facebook @EdwardsAFBAC. Cost: $30
URL:https://edwardsfss.com/event/paint-wine/2025-10-03/
CATEGORIES:Arts and Crafts,Club Muroc
ATTACH;FMTTYPE=image/jpeg:https://edwardsfss.com/wp-content/uploads/2025/09/Paint-and-Wine-SOCIAL.jpg
END:VEVENT
BEGIN:VEVENT
DTSTART;TZID=America/Los_Angeles:20251008T180000
DTEND;TZID=America/Los_Angeles:20251008T200000
DTSTAMP:20260421T075310
CREATED:20251002T151816Z
LAST-MODIFIED:20251002T151816Z
UID:10002963-1759946400-1759953600@edwardsfss.com
SUMMARY:Smartphone Trivia
DESCRIPTION:Put your knowledge to the test at Smartphone Trivia! Grab your friends and jump into this free trivia challenge to see who claims victory! \nWednesdays | 6 – 8 pm | At Club Muroc\nOctober 8 & 22\nNovember 12 & 26\nDecember 10 \nCall 275-CLUB for more information.
URL:https://edwardsfss.com/event/smartphone-trivia-2/
LOCATION:Club Muroc\, Bldg. 5600\, 275 Doolittle Parkway\, Edwards AFB\, CA\, 93524\, United States
CATEGORIES:Club Muroc
ATTACH;FMTTYPE=image/png:https://edwardsfss.com/wp-content/uploads/2025/10/Smartphone-Trivia-Q4-SOCIAL-01.png
END:VEVENT
BEGIN:VEVENT
DTSTART;TZID=America/Los_Angeles:20251009T173000
DTEND;TZID=America/Los_Angeles:20251009T193000
DTSTAMP:20260421T075310
CREATED:20251002T154114Z
LAST-MODIFIED:20251002T154114Z
UID:10002973-1760031000-1760038200@edwardsfss.com
SUMMARY:Whodunit Game Night
DESCRIPTION:Step into a night of intrigue\, mystery and clever twists! Work with (or against) your fellow guests to crack the case in this interactive mystery game hosted by Club Muroc staff. \nEnjoy tasty appetizers as you try to unmask the culprit before it’s too late. Think you’ve got what it takes to solve the mystery? There’s only one way to find out… \nThursday\, October 9\nDoors Open: 5:30 pm | Game: 6:00 – 7:30 pm\nReservations Recommended\n$25 | $20 FSS Insiders \nCall 277-2830 to RSVP!
URL:https://edwardsfss.com/event/whodunit-game-night/
LOCATION:Club Muroc\, Bldg. 5600\, 275 Doolittle Parkway\, Edwards AFB\, CA\, 93524\, United States
CATEGORIES:Club Muroc
ATTACH;FMTTYPE=image/png:https://edwardsfss.com/wp-content/uploads/2025/10/Whodunit-SOCIAL-01.png
END:VEVENT
BEGIN:VEVENT
DTSTART;TZID=America/Los_Angeles:20251017T180000
DTEND;TZID=America/Los_Angeles:20251017T210000
DTSTAMP:20260421T075310
CREATED:20251002T151116Z
LAST-MODIFIED:20251002T151116Z
UID:10002958-1760724000-1760734800@edwardsfss.com
SUMMARY:Karaoke
DESCRIPTION:The stage is yours at Karaoke Nights at Club Muroc! Belt out your favorites\, cheer on your friends and make it a night of music & memories! \nFridays | 6 – 9 pm\nOctober 17\nNovember 7 & 21\nDecember 5 & 19 \nCall 275-CLUB for more information.
URL:https://edwardsfss.com/event/karaoke-3/
LOCATION:Club Muroc\, Bldg. 5600\, 275 Doolittle Parkway\, Edwards AFB\, CA\, 93524\, United States
CATEGORIES:Club Muroc
ATTACH;FMTTYPE=image/png:https://edwardsfss.com/wp-content/uploads/2025/09/Karaoke-Q4-SOCIAL-01.png
END:VEVENT
BEGIN:VEVENT
DTSTART;TZID=America/Los_Angeles:20251022T180000
DTEND;TZID=America/Los_Angeles:20251022T200000
DTSTAMP:20260421T075310
CREATED:20251002T151842Z
LAST-MODIFIED:20251002T151842Z
UID:10002964-1761156000-1761163200@edwardsfss.com
SUMMARY:Smartphone Trivia
DESCRIPTION:Put your knowledge to the test at Smartphone Trivia! Grab your friends and jump into this free trivia challenge to see who claims victory! \nWednesdays | 6 – 8 pm | At Club Muroc\nOctober 22\nNovember 12 & 26\nDecember 10 \nCall 275-CLUB for more information.
URL:https://edwardsfss.com/event/smartphone-trivia-3/
LOCATION:Club Muroc\, Bldg. 5600\, 275 Doolittle Parkway\, Edwards AFB\, CA\, 93524\, United States
CATEGORIES:Club Muroc
ATTACH;FMTTYPE=image/png:https://edwardsfss.com/wp-content/uploads/2025/10/Smartphone-Trivia-Q4-SOCIAL-01.png
END:VEVENT
END:VCALENDAR