BEGIN:VCALENDAR
VERSION:2.0
PRODID:-//412th Force Support Squadron - ECPv6.15.20//NONSGML v1.0//EN
CALSCALE:GREGORIAN
METHOD:PUBLISH
X-ORIGINAL-URL:https://edwardsfss.com
X-WR-CALDESC:Events for 412th Force Support Squadron
REFRESH-INTERVAL;VALUE=DURATION:PT1H
X-Robots-Tag:noindex
X-PUBLISHED-TTL:PT1H
BEGIN:VTIMEZONE
TZID:America/Los_Angeles
BEGIN:DAYLIGHT
TZOFFSETFROM:-0800
TZOFFSETTO:-0700
TZNAME:PDT
DTSTART:20240310T100000
END:DAYLIGHT
BEGIN:STANDARD
TZOFFSETFROM:-0700
TZOFFSETTO:-0800
TZNAME:PST
DTSTART:20241103T090000
END:STANDARD
BEGIN:DAYLIGHT
TZOFFSETFROM:-0800
TZOFFSETTO:-0700
TZNAME:PDT
DTSTART:20250309T100000
END:DAYLIGHT
BEGIN:STANDARD
TZOFFSETFROM:-0700
TZOFFSETTO:-0800
TZNAME:PST
DTSTART:20251102T090000
END:STANDARD
BEGIN:DAYLIGHT
TZOFFSETFROM:-0800
TZOFFSETTO:-0700
TZNAME:PDT
DTSTART:20260308T100000
END:DAYLIGHT
BEGIN:STANDARD
TZOFFSETFROM:-0700
TZOFFSETTO:-0800
TZNAME:PST
DTSTART:20261101T090000
END:STANDARD
END:VTIMEZONE
BEGIN:VEVENT
DTSTART;TZID=America/Los_Angeles:20250912T170000
DTEND;TZID=America/Los_Angeles:20250912T190000
DTSTAMP:20260420T213151
CREATED:20250909T180242Z
LAST-MODIFIED:20250909T180242Z
UID:10002934-1757696400-1757703600@edwardsfss.com
SUMMARY:Mixology
DESCRIPTION:Join us at Club Muroc for Mixology! Craft classic and creative cocktails with our expert bartender and enjoy paired hors d’oeuvres along the way!\n\n\nFriday\, September 12 | 5 – 7 pm\n$55 | $50 for FSS Insiders\n\n\nCall 277-2830 to sign up!
URL:https://edwardsfss.com/event/mixology/
CATEGORIES:Club Muroc
ATTACH;FMTTYPE=image/jpeg:https://edwardsfss.com/wp-content/uploads/2025/09/Mixology.jpg
END:VEVENT
BEGIN:VEVENT
DTSTART;TZID=America/Los_Angeles:20250912T180000
DTEND;TZID=America/Los_Angeles:20250912T200000
DTSTAMP:20260420T213151
CREATED:20250909T164054Z
LAST-MODIFIED:20250909T164054Z
UID:10002926-1757700000-1757707200@edwardsfss.com
SUMMARY:Circus Bingo
DESCRIPTION:Join us for Circus Bingo at Club Muroc at 6:00 p.m. on September 12th. Step right up for 5 thrilling bingo games with great prizes! Grand prize is 2 tickets to the LA Zoo for a wild day out!
URL:https://edwardsfss.com/event/circus-bingo/
CATEGORIES:Club Muroc
ATTACH;FMTTYPE=image/jpeg:https://edwardsfss.com/wp-content/uploads/2025/09/Circus-Bingo.jpg
END:VEVENT
BEGIN:VEVENT
DTSTART;TZID=America/Los_Angeles:20250919T180000
DTEND;TZID=America/Los_Angeles:20250919T210000
DTSTAMP:20260420T213151
CREATED:20250909T172919Z
LAST-MODIFIED:20250909T172919Z
UID:10002930-1758304800-1758315600@edwardsfss.com
SUMMARY:Karaoke
DESCRIPTION:Sing your heart out at karaoke this Friday\, September 19th from 6:00 p.m. to 9:00 p.m. at Club Muroc!
URL:https://edwardsfss.com/event/karaoke/
CATEGORIES:Club Muroc
ATTACH;FMTTYPE=image/jpeg:https://edwardsfss.com/wp-content/uploads/2025/09/Karaoke-1.jpg
END:VEVENT
BEGIN:VEVENT
DTSTART;TZID=America/Los_Angeles:20250919T190000
DTEND;TZID=America/Los_Angeles:20250919T210000
DTSTAMP:20260420T213151
CREATED:20250909T192533Z
LAST-MODIFIED:20250909T192533Z
UID:10002943-1758308400-1758315600@edwardsfss.com
SUMMARY:Paint & Wine Night
DESCRIPTION:Ready for a relaxing evening? Grab a glass of wine and a brush at our Paint & Wine night\, and paint your very own Moana masterpiece.\n\n\nFriday\, September 19 | 7 – 9 pm | At Club Muroc\n$30 (all supplies & one glass of wine)\n\n\nSpace is limited; reserve your seat early\n\n\nThe class includes all supplies\, one 16” x 20” canvas\, easel\, brushes\, paints\, and live step-by-step instructions. Your first glass of wine is included\, and additional food and beverages will be available for purchase through the club.
URL:https://edwardsfss.com/event/paint-wine-night/
CATEGORIES:Arts and Crafts,Club Muroc
ATTACH;FMTTYPE=image/jpeg:https://edwardsfss.com/wp-content/uploads/2025/09/Paint-Wine.jpg
END:VEVENT
BEGIN:VEVENT
DTSTART;TZID=America/Los_Angeles:20250926T160000
DTEND;TZID=America/Los_Angeles:20250926T200000
DTSTAMP:20260420T213151
CREATED:20250909T170641Z
LAST-MODIFIED:20250909T170641Z
UID:10002928-1758902400-1758916800@edwardsfss.com
SUMMARY:Oktoberfest
DESCRIPTION:Prost! Celebrate Oktoberfest with us on September 26th at Club Muroc! Enjoy live Oompah music\, authentic German food\, a pie-eating showdown and more.
URL:https://edwardsfss.com/event/oktoberfest/
CATEGORIES:Club Muroc
ATTACH;FMTTYPE=image/jpeg:https://edwardsfss.com/wp-content/uploads/2025/09/Oktoberfest.jpg
END:VEVENT
END:VCALENDAR