BEGIN:VCALENDAR
VERSION:2.0
PRODID:-//412th Force Support Squadron - ECPv6.15.20//NONSGML v1.0//EN
CALSCALE:GREGORIAN
METHOD:PUBLISH
X-ORIGINAL-URL:https://edwardsfss.com
X-WR-CALDESC:Events for 412th Force Support Squadron
REFRESH-INTERVAL;VALUE=DURATION:PT1H
X-Robots-Tag:noindex
X-PUBLISHED-TTL:PT1H
BEGIN:VTIMEZONE
TZID:America/Los_Angeles
BEGIN:DAYLIGHT
TZOFFSETFROM:-0800
TZOFFSETTO:-0700
TZNAME:PDT
DTSTART:20250309T100000
END:DAYLIGHT
BEGIN:STANDARD
TZOFFSETFROM:-0700
TZOFFSETTO:-0800
TZNAME:PST
DTSTART:20251102T090000
END:STANDARD
BEGIN:DAYLIGHT
TZOFFSETFROM:-0800
TZOFFSETTO:-0700
TZNAME:PDT
DTSTART:20260308T100000
END:DAYLIGHT
BEGIN:STANDARD
TZOFFSETFROM:-0700
TZOFFSETTO:-0800
TZNAME:PST
DTSTART:20261101T090000
END:STANDARD
BEGIN:DAYLIGHT
TZOFFSETFROM:-0800
TZOFFSETTO:-0700
TZNAME:PDT
DTSTART:20270314T100000
END:DAYLIGHT
BEGIN:STANDARD
TZOFFSETFROM:-0700
TZOFFSETTO:-0800
TZNAME:PST
DTSTART:20271107T090000
END:STANDARD
END:VTIMEZONE
BEGIN:VEVENT
DTSTART;VALUE=DATE:20260401
DTEND;VALUE=DATE:20260501
DTSTAMP:20260422T145045
CREATED:20260402T171217Z
LAST-MODIFIED:20260402T171217Z
UID:10003476-1775001600-1777593599@edwardsfss.com
SUMMARY:Community Center Trivia
DESCRIPTION:Test your trivia knowledge at the Oasis Community Center! Every month will feature a new trivia theme with questions to answer for the chance at a $25 FSS Gift Card! One winner will be selected each month!\n\n\nApril Theme: Movies Everyone Knows\nStop by the Community Center\, scan the QR code\, submit your answers\, and see if you win!\n\n\nCall 275-CNTR for more information.
URL:https://edwardsfss.com/event/community-center-trivia/
CATEGORIES:Community Center
ATTACH;FMTTYPE=image/png:https://edwardsfss.com/wp-content/uploads/2026/04/Community-Center-Trivia-SOCIAL.png
END:VEVENT
BEGIN:VEVENT
DTSTART;VALUE=DATE:20260401
DTEND;VALUE=DATE:20260501
DTSTAMP:20260422T145045
CREATED:20260402T201746Z
LAST-MODIFIED:20260402T201746Z
UID:10003490-1775001600-1777593599@edwardsfss.com
SUMMARY:April Oil Change Special
DESCRIPTION:Stop by Auto Hobby the entire month of April for our oil change special!$25 – For gas vehicles $40 – For diesel vehicles $5 – Fee if skid plate needs to be removedCustomers must bring their own oil and filter \nCall 275-AUTO for more information.
URL:https://edwardsfss.com/event/april-oil-change-special/
CATEGORIES:Auto Hobby
ATTACH;FMTTYPE=image/jpeg:https://edwardsfss.com/wp-content/uploads/2026/04/April-AH-Special-SOCIAL.jpg
END:VEVENT
BEGIN:VEVENT
DTSTART;VALUE=DATE:20260420
DTEND;VALUE=DATE:20260425
DTSTAMP:20260422T145045
CREATED:20260402T165915Z
LAST-MODIFIED:20260402T165915Z
UID:10003469-1776643200-1777075199@edwardsfss.com
SUMMARY:Sandbagger Grill Specials
DESCRIPTION:Check out Sandbagger Grill in April for some delectable food specials!\n\n\nThursday\, April 2: National Burrito Day\nGrab a burrito and a small drink for $8.50 | All Day\n\n\nSunday\, April 12: National Grilled Cheese Day\nEnjoy a grilled cheese\, French fries and a small drink for $8.00 | All Day\n\n\nApril 20 – 24: Pasta Week\nSpaghetti\, garden salad\, dinner roll and a small drink for $14.00 | All Week\n\n\nCall 275-SAND for more information.
URL:https://edwardsfss.com/event/sandbagger-grill-specials/2026-04-20/
CATEGORIES:Golf
ATTACH;FMTTYPE=image/jpeg:https://edwardsfss.com/wp-content/uploads/2026/04/April-Specials-SOCIAL.jpg
END:VEVENT
BEGIN:VEVENT
DTSTART;VALUE=DATE:20260422
DTEND;VALUE=DATE:20260423
DTSTAMP:20260422T145045
CREATED:20260402T165508Z
LAST-MODIFIED:20260402T165508Z
UID:10003466-1776816000-1776902399@edwardsfss.com
SUMMARY:Watch it Grow Planters
DESCRIPTION:This Earth Day\, stop by Arts & Crafts! We’ve got planters and seeds ready for you to plant and take home to watch grow into beautiful flowers!\n\n\nWednesday\, April 22 | All Day\n$5\n\n\nCall 275-ARTS for more information.
URL:https://edwardsfss.com/event/watch-it-grow-planters/
CATEGORIES:Arts and Crafts
ATTACH;FMTTYPE=image/jpeg:https://edwardsfss.com/wp-content/uploads/2026/04/Planters-SOCIAL.jpg
END:VEVENT
BEGIN:VEVENT
DTSTART;TZID=America/Los_Angeles:20260422T100000
DTEND;TZID=America/Los_Angeles:20260422T110000
DTSTAMP:20260422T145045
CREATED:20250908T222452Z
LAST-MODIFIED:20250908T222452Z
UID:10002729-1776852000-1776855600@edwardsfss.com
SUMMARY:Storytime
DESCRIPTION:Join us at the Edwards AFB Library for stories\, songs\, activities and community every Wednesday from 10:00 a.m. to 11:00 a.m. Ages 0-5.
URL:https://edwardsfss.com/event/storytime/2026-04-22/
ATTACH;FMTTYPE=image/jpeg:https://edwardsfss.com/wp-content/uploads/2025/09/Storytime.jpg
END:VEVENT
BEGIN:VEVENT
DTSTART;TZID=America/Los_Angeles:20260422T170000
DTEND;TZID=America/Los_Angeles:20260422T200000
DTSTAMP:20260422T145045
CREATED:20260402T205738Z
LAST-MODIFIED:20260402T205738Z
UID:10003506-1776877200-1776888000@edwardsfss.com
SUMMARY:Sundaes & Cinema
DESCRIPTION:Bring the family for Sundaes & Cinema Night at Club Muroc! Enjoy a cozy movie night on the big screen! Ice cream sundaes with all the toppings available for purchase. Blankets and pillows encouraged!Wednesday\, April 22Doors open at 5 pm | Movie starts at 5:30 pmFeatured Movie: The SandlotCall 277-2830 for more information.
URL:https://edwardsfss.com/event/sundaes-cinema/
CATEGORIES:Club Muroc
ATTACH;FMTTYPE=image/png:https://edwardsfss.com/wp-content/uploads/2026/04/Sundaes-Cinema-SOCIAL.png
END:VEVENT
BEGIN:VEVENT
DTSTART;TZID=America/Los_Angeles:20260423T180000
DTEND;TZID=America/Los_Angeles:20260423T200000
DTSTAMP:20260422T145045
CREATED:20250908T223148Z
LAST-MODIFIED:20251126T172543Z
UID:10002798-1776967200-1776974400@edwardsfss.com
SUMMARY:Thursday Nite League
DESCRIPTION:Get your crew together for this 33-week\, 4-person team league with a massive estimated prize fund of $22\,000! It’s the perfect way to add a competitive edge to your Thursday nights.
URL:https://edwardsfss.com/event/thursday-nite-league/2026-04-23/
CATEGORIES:High Desert Bowling Center
ATTACH;FMTTYPE=image/jpeg:https://edwardsfss.com/wp-content/uploads/2025/09/Thursday-Nite-League.jpg
END:VEVENT
BEGIN:VEVENT
DTSTART;TZID=America/Los_Angeles:20260424T183000
DTEND;TZID=America/Los_Angeles:20260425T070000
DTSTAMP:20260422T145045
CREATED:20260402T165247Z
LAST-MODIFIED:20260402T165247Z
UID:10003465-1777055400-1777100400@edwardsfss.com
SUMMARY:Teen Lock In
DESCRIPTION:Teens\, join us for the Teen Lock In at the Youth Center! Come hang out and enjoy fun activities like bowling\, kickball\, capture the flag\, an obstacle course\, dodgeball\, a scary movie\, challenges\, trivia and more!\n\n\nFriday\, April 24\, 6:30 pm – Saturday\, April 25\, 7 am\n$35 | Ages 13 – 18 (18-year-olds must be enrolled in school)\nPizza\, a sundae bar and other snacks will be provided.\n\n\nRegister in the CYPBMS portal\, call 275-KIDS if you need assistance.
URL:https://edwardsfss.com/event/teen-lock-in/
CATEGORIES:Youth
ATTACH;FMTTYPE=image/jpeg:https://edwardsfss.com/wp-content/uploads/2026/04/Teen-Lock-In-SOCIAL.jpg
END:VEVENT
BEGIN:VEVENT
DTSTART;TZID=America/Los_Angeles:20260425T080000
DTEND;TZID=America/Los_Angeles:20260425T160000
DTSTAMP:20260422T145045
CREATED:20260402T202313Z
LAST-MODIFIED:20260402T202313Z
UID:10003493-1777104000-1777132800@edwardsfss.com
SUMMARY:Sport Fishing Adventure
DESCRIPTION:ALL ABOARD! Spend the day on the water aboard the Island Spirit in Ventura for an epic half-day fishing trip with ODR!Saturday\, April 258 am – 4 pm | Departure time: 5 am$150 per personSign up by April 20Call 275-CAMP to sign up!
URL:https://edwardsfss.com/event/sport-fishing-adventure/
CATEGORIES:Outdoor Rec
ATTACH;FMTTYPE=image/png:https://edwardsfss.com/wp-content/uploads/2026/04/Sport-Fishing-SOCIAL.png
END:VEVENT
BEGIN:VEVENT
DTSTART;TZID=America/Los_Angeles:20260428T180000
DTEND;TZID=America/Los_Angeles:20260428T200000
DTSTAMP:20260422T145045
CREATED:20251218T180221Z
LAST-MODIFIED:20251218T180221Z
UID:10003124-1777399200-1777406400@edwardsfss.com
SUMMARY:Cash Bingo
DESCRIPTION:Cash Bingo \nTuesdays | Club Muroc | 6:00pm – 8:00pm | Doors open at 5:30pm \nCall Bingo\, win cash!\n$750 minimum payout!\n$300+ progressive jackpot\n$50 hotball \nFSS Insiders get in FREE!\n18+\nGame card prices vary \nCall 275-CLUB for more information.
URL:https://edwardsfss.com/event/cash-bingo/2026-04-28/
CATEGORIES:Club Muroc
ATTACH;FMTTYPE=image/png:https://edwardsfss.com/wp-content/uploads/2025/12/Cash-Bingo-SOCIAL.png
END:VEVENT
BEGIN:VEVENT
DTSTART;TZID=America/Los_Angeles:20260429T100000
DTEND;TZID=America/Los_Angeles:20260429T110000
DTSTAMP:20260422T145045
CREATED:20250908T222452Z
LAST-MODIFIED:20250908T222452Z
UID:10002730-1777456800-1777460400@edwardsfss.com
SUMMARY:Storytime
DESCRIPTION:Join us at the Edwards AFB Library for stories\, songs\, activities and community every Wednesday from 10:00 a.m. to 11:00 a.m. Ages 0-5.
URL:https://edwardsfss.com/event/storytime/2026-04-29/
ATTACH;FMTTYPE=image/jpeg:https://edwardsfss.com/wp-content/uploads/2025/09/Storytime.jpg
END:VEVENT
BEGIN:VEVENT
DTSTART;TZID=America/Los_Angeles:20260430T180000
DTEND;TZID=America/Los_Angeles:20260430T200000
DTSTAMP:20260422T145045
CREATED:20250908T223148Z
LAST-MODIFIED:20251126T172543Z
UID:10002799-1777572000-1777579200@edwardsfss.com
SUMMARY:Thursday Nite League
DESCRIPTION:Get your crew together for this 33-week\, 4-person team league with a massive estimated prize fund of $22\,000! It’s the perfect way to add a competitive edge to your Thursday nights.
URL:https://edwardsfss.com/event/thursday-nite-league/2026-04-30/
CATEGORIES:High Desert Bowling Center
ATTACH;FMTTYPE=image/jpeg:https://edwardsfss.com/wp-content/uploads/2025/09/Thursday-Nite-League.jpg
END:VEVENT
END:VCALENDAR