BEGIN:VCALENDAR
VERSION:2.0
PRODID:-//412th Force Support Squadron - ECPv6.15.20//NONSGML v1.0//EN
CALSCALE:GREGORIAN
METHOD:PUBLISH
X-WR-CALNAME:412th Force Support Squadron
X-ORIGINAL-URL:https://edwardsfss.com
X-WR-CALDESC:Events for 412th Force Support Squadron
REFRESH-INTERVAL;VALUE=DURATION:PT1H
X-Robots-Tag:noindex
X-PUBLISHED-TTL:PT1H
BEGIN:VTIMEZONE
TZID:America/Los_Angeles
BEGIN:DAYLIGHT
TZOFFSETFROM:-0800
TZOFFSETTO:-0700
TZNAME:PDT
DTSTART:20250309T100000
END:DAYLIGHT
BEGIN:STANDARD
TZOFFSETFROM:-0700
TZOFFSETTO:-0800
TZNAME:PST
DTSTART:20251102T090000
END:STANDARD
BEGIN:DAYLIGHT
TZOFFSETFROM:-0800
TZOFFSETTO:-0700
TZNAME:PDT
DTSTART:20260308T100000
END:DAYLIGHT
BEGIN:STANDARD
TZOFFSETFROM:-0700
TZOFFSETTO:-0800
TZNAME:PST
DTSTART:20261101T090000
END:STANDARD
BEGIN:DAYLIGHT
TZOFFSETFROM:-0800
TZOFFSETTO:-0700
TZNAME:PDT
DTSTART:20270314T100000
END:DAYLIGHT
BEGIN:STANDARD
TZOFFSETFROM:-0700
TZOFFSETTO:-0800
TZNAME:PST
DTSTART:20271107T090000
END:STANDARD
END:VTIMEZONE
BEGIN:VEVENT
DTSTART;VALUE=DATE:20260401
DTEND;VALUE=DATE:20260501
DTSTAMP:20260419T210708
CREATED:20260402T171217Z
LAST-MODIFIED:20260402T171217Z
UID:10003476-1775001600-1777593599@edwardsfss.com
SUMMARY:Community Center Trivia
DESCRIPTION:Test your trivia knowledge at the Oasis Community Center! Every month will feature a new trivia theme with questions to answer for the chance at a $25 FSS Gift Card! One winner will be selected each month!\n\n\nApril Theme: Movies Everyone Knows\nStop by the Community Center\, scan the QR code\, submit your answers\, and see if you win!\n\n\nCall 275-CNTR for more information.
URL:https://edwardsfss.com/event/community-center-trivia/
CATEGORIES:Community Center
ATTACH;FMTTYPE=image/png:https://edwardsfss.com/wp-content/uploads/2026/04/Community-Center-Trivia-SOCIAL.png
END:VEVENT
BEGIN:VEVENT
DTSTART;VALUE=DATE:20260401
DTEND;VALUE=DATE:20260501
DTSTAMP:20260419T210708
CREATED:20260402T201746Z
LAST-MODIFIED:20260402T201746Z
UID:10003490-1775001600-1777593599@edwardsfss.com
SUMMARY:April Oil Change Special
DESCRIPTION:Stop by Auto Hobby the entire month of April for our oil change special!$25 – For gas vehicles $40 – For diesel vehicles $5 – Fee if skid plate needs to be removedCustomers must bring their own oil and filter \nCall 275-AUTO for more information.
URL:https://edwardsfss.com/event/april-oil-change-special/
CATEGORIES:Auto Hobby
ATTACH;FMTTYPE=image/jpeg:https://edwardsfss.com/wp-content/uploads/2026/04/April-AH-Special-SOCIAL.jpg
END:VEVENT
BEGIN:VEVENT
DTSTART;TZID=America/Los_Angeles:20260417T150000
DTEND;TZID=America/Los_Angeles:20260417T160000
DTSTAMP:20260419T210708
CREATED:20260403T193534Z
LAST-MODIFIED:20260403T193534Z
UID:10003509-1776438000-1776441600@edwardsfss.com
SUMMARY:Construction Crew
DESCRIPTION:Young builders are invited to this creative\, free-play program at Edwards Library! Kids can create and explore a variety of building toys\, including blocks\, LEGO bricks\, magnet tiles and more!\n\n\nFridays\, April 17 & May 15 | 3 – 4 pm\nAges 6 – 12\n\n\nCall 275-BOOK for more information.
URL:https://edwardsfss.com/event/construction-crew-2/2026-04-17/
CATEGORIES:Library
ATTACH;FMTTYPE=image/jpeg:https://edwardsfss.com/wp-content/uploads/2026/04/Construction-Crew-SOCIAL-1.jpg
END:VEVENT
BEGIN:VEVENT
DTSTART;TZID=America/Los_Angeles:20260417T180000
DTEND;TZID=America/Los_Angeles:20260417T210000
DTSTAMP:20260419T210708
CREATED:20260402T195318Z
LAST-MODIFIED:20260402T195318Z
UID:10003478-1776448800-1776459600@edwardsfss.com
SUMMARY:Karaoke
DESCRIPTION:Grab the mic and take center stage at Karaoke Night!\n\n\nFridays | 6 – 9 pm | At Club Muroc\nApril 13 & 17\nMay 15 & 22\nJune 26\nFREE Event\n\n\nCall 275-CLUB for more information.
URL:https://edwardsfss.com/event/karaoke-9/2026-04-17/
CATEGORIES:Club Muroc
ATTACH;FMTTYPE=image/png:https://edwardsfss.com/wp-content/uploads/2026/04/Karaoke-SOCIAL.png
END:VEVENT
BEGIN:VEVENT
DTSTART;TZID=America/Los_Angeles:20260417T183000
DTEND;TZID=America/Los_Angeles:20260417T203000
DTSTAMP:20260419T210708
CREATED:20260402T203019Z
LAST-MODIFIED:20260402T203019Z
UID:10003496-1776450600-1776457800@edwardsfss.com
SUMMARY:Purple Up Skate Night
DESCRIPTION:Get ready to lace up and light up the Youth Center Gym! We’re celebrating our awesome military children with a Purple Up Skate Night for Month of the Military Child. Whether you’re a skating pro or just learning\, come join us for a night of music\, fun and community spirit!Friday\, April 17 | 6:30 – 8:30 pm$5 | Ages 9 – 12The Teen Center Keystone Club will have delicious snacks and refreshments available for purchase.Register on the CYPBMS Portal. If you have any questions or need assistance\, call the Youth Center at (661) 275-KIDS.
URL:https://edwardsfss.com/event/purple-up-skate-night/
CATEGORIES:Youth
ATTACH;FMTTYPE=image/jpeg:https://edwardsfss.com/wp-content/uploads/2026/04/Skate-Night-SOCIAL.jpg
END:VEVENT
END:VCALENDAR